BEGIN:VCALENDAR
VERSION:2.0
PRODID:-//wp-events-plugin.com//7.2.3.1//EN
TZID:America/Los_Angeles
X-WR-TIMEZONE:America/Los_Angeles
BEGIN:VEVENT
UID:2@lacamasshoreshoa.org
DTSTART;TZID=America/Los_Angeles;VALUE=DATE:20250214
DTEND;TZID=America/Los_Angeles;VALUE=DATE:20250217
DTSTAMP:20250210T042254Z
URL:https://lacamasshoreshoa.org/events/annual-garage-sale/
SUMMARY:Annual Garage Sale
DESCRIPTION:The neighborhood garage sale that attracts thousands of people!
   Get ready to sell all the stuff you no longer need!
ATTACH;FMTTYPE=image/jpeg:https://lacamasshoreshoa.org/wp-content/uploads/
 2025/02/sample-garage-sale.png
END:VEVENT
BEGIN:VTIMEZONE
TZID:America/Los_Angeles
X-LIC-LOCATION:America/Los_Angeles
BEGIN:STANDARD
DTSTART:20241103T010000
TZOFFSETFROM:-0700
TZOFFSETTO:-0800
TZNAME:PST
END:STANDARD
END:VTIMEZONE
END:VCALENDAR