BEGIN:VCALENDAR
VERSION:2.0
PRODID:-//wp-events-plugin.com//7.2.3.1//EN
TZID:America/Los_Angeles
X-WR-TIMEZONE:America/Los_Angeles
BEGIN:VEVENT
UID:6@lacamasshoreshoa.org
DTSTART;TZID=America/Los_Angeles:20250704T090000
DTEND;TZID=America/Los_Angeles:20250704T150000
DTSTAMP:20250614T181441Z
URL:https://lacamasshoreshoa.org/events/annual-lacamas-shores-july-4th-cel
 ebration/
SUMMARY:Annual Lacamas Shores July 4th Celebration
DESCRIPTION:Our annual neighborhood July 4th celebration is just around t
 he corner\, and we hope you'll join us for a fun-filled day of festivities
 \, food\, and community spirit!\nPlease see the links below to RSVP and si
 gn up for volunteer opportunities. We need your help to make this event a 
 success—it’s also a great chance to meet neighbors and give back to yo
 ur community.\n Event Schedule &amp\; Details (full details on the Evite
 ):\n\n\n 	9:00 AM – Kids Fun Run at the Park\n\n 	Supplies available for
  kids (and adults) to make thank-you cards for military and first responde
 rs.\n\n\n 	10:30 AM – Parade Line-Up\n\n 	Decorate your cars\, golf cart
 s\, bikes\, scooters\, wagons\, and strollers!\n 	Parade starts at 10:45 
 AM\, featuring police and fire vehicles for everyone to explore post-parad
 e.\n 	We'd also love to have all motorized participants park their cars af
 ter the parade so people can check out ALL the cool vehicles!\n\n\n 	11:30
  AM to 3:00 PM – BBQ\n\n 	Bring a side dish and/or dessert to share. Dro
 p items off in the garage area for setup.\n\n\n\n RSVP &amp\; Volunteer L
 inks:\n\n\n 	RSVP via Evite: https://evite.me/k7Mej9yxdx\n 	Sign Up to Vo
 lunteer: https://www.signupgenius.com/go/10C0845A5A82EA2FD0-57257028-laca
 mas\n 	Event Info &amp\; More: https://linktr.ee/lshoa\n\n  Important R
 eminders:\n\n\n 	Please review the safety rules posted on each bounce hous
 e to ensure all guidelines are being followed. Be sure to observe the pos
 ted age and weight limits\, allow no more than 2 individuals at a time on 
 the obstacle course\, and limit the bounce house to 5–7 individuals at a
  time\, as indicated. Your cooperation helps keep the event safe and enjo
 yable for everyone!\n 	The boat dock will be closed all day until cleanu
 p concludes (typically around 5:00 PM).\n 	Road closures on the east end 
 begin at 10:00 AM for the parade and will reopen by 11:30 AM. Please bring
  any tents or chairs down to the park before the closure.\n 	Label any foo
 d containers or serving utensils you'd like returned after the BBQ.\n\nLet
 ’s make this another memorable celebration!\nQuestions about the parade
 ? Contact Sandy Rutgers: sandy.rutgers@gmail.com\nQuestions about the BB
 Q or event in general? Contact Vivian Strogen: wuertz.vivian@gmail.com\n
  \nWe look forward to seeing you all there!\nWarm regards\,\nAssociation 
 Management Services NW\nOn behalf of the Lacamas Shores HOA Board of Direc
 tors.
END:VEVENT
BEGIN:VTIMEZONE
TZID:America/Los_Angeles
X-LIC-LOCATION:America/Los_Angeles
BEGIN:DAYLIGHT
DTSTART:20250309T030000
TZOFFSETFROM:-0800
TZOFFSETTO:-0700
TZNAME:PDT
END:DAYLIGHT
END:VTIMEZONE
END:VCALENDAR