BEGIN:VCALENDAR
VERSION:2.0
PRODID:-//wp-events-plugin.com//7.2.3.1//EN
TZID:America/Los_Angeles
X-WR-TIMEZONE:America/Los_Angeles
BEGIN:VEVENT
UID:5@lacamasshoreshoa.org
DTSTART;TZID=America/Los_Angeles:20250607T080000
DTEND;TZID=America/Los_Angeles:20250607T160000
DTSTAMP:20250520T042755Z
URL:https://lacamasshoreshoa.org/events/annual-neighborhood-garage-sale/
SUMMARY:Annual Neighborhood Garage Sale
DESCRIPTION:The Annual Garage Sale has been scheduled for Saturday\, Ju
 ne 7\, 2025 from 8am to 4pm. Residents do not need to register for the G
 arage Sale – simply open your garage door and be ready for the crowds. 
 For new Residents\, please be advised that there will be an increase in ve
 hicles and pedestrians within the neighborhood\, especially if the weather
  is nice. Please take caution when driving through the Community.
END:VEVENT
BEGIN:VTIMEZONE
TZID:America/Los_Angeles
X-LIC-LOCATION:America/Los_Angeles
BEGIN:DAYLIGHT
DTSTART:20250309T030000
TZOFFSETFROM:-0800
TZOFFSETTO:-0700
TZNAME:PDT
END:DAYLIGHT
END:VTIMEZONE
END:VCALENDAR