BEGIN:VCALENDAR
VERSION:2.0
PRODID:-//wp-events-plugin.com//7.2.3.1//EN
TZID:America/Los_Angeles
X-WR-TIMEZONE:America/Los_Angeles
BEGIN:VEVENT
UID:8@lacamasshoreshoa.org
DTSTART;TZID=America/Los_Angeles:20250626T180000
DTEND;TZID=America/Los_Angeles:20250626T200000
DTSTAMP:20250614T181134Z
URL:https://lacamasshoreshoa.org/events/lsha-reconvened-special-meeting/
SUMMARY:LSHA - Reconvened Special Meeting
DESCRIPTION:Dear Homeowners\,\nThis is a follow-up to the Notice of Reconv
 ened Special Meeting issued on May 27\, 2025. As outlined in that notice
 \, the original Special Meeting scheduled for May 16\, 2025\, was not able
  to be called to order due to a lack of quorum.\nIn accordance with the go
 verning documents\, the meeting has been adjourned and is now rescheduled 
 as follows:\nReconvened Special Meeting Details:\nDate: Thursday\, June 2
 6\, 2025\nTime: 6:00 PM\nLocation: Camas Fire Station 42\n4321 NW Parker
  Street\, Camas\, WA 98607\nThe purpose of this meeting is to vote on Reso
 lution 2025-004\, which proposes:\n\n\n 	A one-time special assessment of 
 $700.00 per lot\, due by September 1\, 2025\n 	An annual assessment increa
 se of $477.00 per lot\, increasing dues from $623.00 to $1\,100.00 per lot
 \, effective January 1\, 2026\n\nAs this is a reconvened meeting\, the qu
 orum requirement is reduced to 30% of the total membership. All previously
  submitted proxies and ballots remain valid unless changed or revoked in w
 riting prior to the meeting.\nFollowing the vote\, the Board of Directors 
 will convene a Regular Board Meeting to address scheduled Association busi
 ness.\nIf you have not yet submitted a proxy\, or would like to change a p
 reviously submitted proxy\, please contact Management at LacamasShoresHOA
 @ams-nw.com.\nYour participation is vital to ensure quorum is achieved and
  your vote is counted. If you have any questions or need assistance\, feel
  free to reach out to our office at LacamasShoresHOA@ams-nw.com or call 
 (360) 891-8060.\nThank you for your continued involvement in the Community
 .\nSincerely\,\nPatrick Telfer\, CCM®\, CMCA®\nDirector of Association B
 usiness Management\nOn behalf of the Lacamas Shores Board of Directors
LOCATION:Camas Fire Station 42\, 4321 NW Parker Street\, Camas\, WA\, 98607
 \, United States
X-APPLE-STRUCTURED-LOCATION;VALUE=URI;X-ADDRESS=4321 NW Parker Street\, Cam
 as\, WA\, 98607\, United States;X-APPLE-RADIUS=100;X-TITLE=Camas Fire Stat
 ion 42:geo:0,0
END:VEVENT
BEGIN:VTIMEZONE
TZID:America/Los_Angeles
X-LIC-LOCATION:America/Los_Angeles
BEGIN:DAYLIGHT
DTSTART:20250309T030000
TZOFFSETFROM:-0800
TZOFFSETTO:-0700
TZNAME:PDT
END:DAYLIGHT
END:VTIMEZONE
END:VCALENDAR