BEGIN:VCALENDAR
VERSION:2.0
PRODID:-//wp-events-plugin.com//7.2.3.1//EN
TZID:America/Los_Angeles
X-WR-TIMEZONE:America/Los_Angeles
BEGIN:VEVENT
UID:7@lacamasshoreshoa.org
DTSTART;TZID=America/Los_Angeles:20250619T180000
DTEND;TZID=America/Los_Angeles:20250619T200000
DTSTAMP:20250614T181029Z
URL:https://lacamasshoreshoa.org/events/lsha-townhall-meeting-notice/
SUMMARY:LSHA – Townhall Meeting Notice
DESCRIPTION:Dear Lacamas Shores Homeowners\,\nThe Board will be holding a v
 irtual Townhall Meeting on Thursday\, June 19\, 2025 at 6:00 PM via Zoo
 m to provide one final presentation and discussion regarding the upcoming
  special assessment vote.\nBoard Members Steve Nigro and Nick Rutgers will
  lead the discussion on the financial elements and the bubbler project\, r
 espectively. The meeting will be moderated by Tim Buller.\nPlease find the
  updated Frequently Asked Questions (FAQs) attached\, which incorporate 
 the most recent questions and feedback from the community.\nZoom Meeting D
 etails:\nLink: https://us06web.zoom.us/j/88272318772?pwd=1vE0M4FXCcYa9bds
 5ibwzViSVmJ06Z.1\nMeeting ID: 882 7231 8772\nPasscode: 564005\nAll Homeown
 ers are encouraged to attend\, ask questions\, and learn more ahead of the
  June 26th Board Meeting and Homeowner Vote at the Fire Station on Park
 er Street.\nWe look forward to your participation.\nWarm regards\,\nAssoci
 ation Management Services NW\nOn behalf of the Lacamas Shores Board of Dir
 ectors
LOCATION:https://us06web.zoom.us/j/88272318772?pwd=1vE0M4FXCcYa9bds5ibwzViS
 VmJ06Z.1
END:VEVENT
BEGIN:VTIMEZONE
TZID:America/Los_Angeles
X-LIC-LOCATION:America/Los_Angeles
BEGIN:DAYLIGHT
DTSTART:20250309T030000
TZOFFSETFROM:-0800
TZOFFSETTO:-0700
TZNAME:PDT
END:DAYLIGHT
END:VTIMEZONE
END:VCALENDAR