BEGIN:VCALENDAR
VERSION:2.0
PRODID:-//wp-events-plugin.com//7.2.3.1//EN
TZID:America/Los_Angeles
X-WR-TIMEZONE:America/Los_Angeles
BEGIN:VEVENT
UID:3@lacamasshoreshoa.org
DTSTART;TZID=America/Los_Angeles:20250211T170000
DTEND;TZID=America/Los_Angeles:20250211T213000
DTSTAMP:20250210T042501Z
URL:https://lacamasshoreshoa.org/events/social-happy-hour/
SUMMARY:Social Happy Hour
DESCRIPTION:Social happy hour hosted by Josh and Jana
ATTACH;FMTTYPE=image/jpeg:https://lacamasshoreshoa.org/wp-content/uploads/
 2025/02/sample-christmas-lights.jpg
END:VEVENT
BEGIN:VTIMEZONE
TZID:America/Los_Angeles
X-LIC-LOCATION:America/Los_Angeles
BEGIN:STANDARD
DTSTART:20241103T010000
TZOFFSETFROM:-0700
TZOFFSETTO:-0800
TZNAME:PST
END:STANDARD
END:VTIMEZONE
END:VCALENDAR