BEGIN:VCALENDAR
VERSION:2.0
PRODID:-//wp-events-plugin.com//7.2.3.1//EN
TZID:America/Los_Angeles
X-WR-TIMEZONE:America/Los_Angeles
BEGIN:VEVENT
UID:1@lacamasshoreshoa.org
DTSTART;TZID=America/Los_Angeles:20250211T130000
DTEND;TZID=America/Los_Angeles:20250211T170000
DTSTAMP:20250210T034025Z
URL:https://lacamasshoreshoa.org/events/test-event/
SUMMARY:Watch The Sunset on Lacamas Lake
DESCRIPTION:Come join your neighbors for a beautiful sunset on the lake!
ATTACH;FMTTYPE=image/jpeg:https://lacamasshoreshoa.org/wp-content/uploads/
 2021/11/service-1.jpg
END:VEVENT
BEGIN:VTIMEZONE
TZID:America/Los_Angeles
X-LIC-LOCATION:America/Los_Angeles
BEGIN:STANDARD
DTSTART:20241103T010000
TZOFFSETFROM:-0700
TZOFFSETTO:-0800
TZNAME:PST
END:STANDARD
END:VTIMEZONE
END:VCALENDAR